BEGIN:VCALENDAR
VERSION:2.0
PRODID:-//Shalom Family Enrichment Mission - ECPv6.15.20//NONSGML v1.0//EN
CALSCALE:GREGORIAN
METHOD:PUBLISH
X-WR-CALNAME:Shalom Family Enrichment Mission
X-ORIGINAL-URL:https://shalomfamilymission.org
X-WR-CALDESC:Events for Shalom Family Enrichment Mission
REFRESH-INTERVAL;VALUE=DURATION:PT1H
X-Robots-Tag:noindex
X-PUBLISHED-TTL:PT1H
BEGIN:VTIMEZONE
TZID:Asia/Kolkata
BEGIN:STANDARD
TZOFFSETFROM:+0530
TZOFFSETTO:+0530
TZNAME:IST
DTSTART:20160101T000000
END:STANDARD
END:VTIMEZONE
BEGIN:VEVENT
DTSTART;TZID=Asia/Kolkata:20170930T090000
DTEND;TZID=Asia/Kolkata:20170930T170000
DTSTAMP:20260425T210715
CREATED:20170916T192210Z
LAST-MODIFIED:20170916T192210Z
UID:9419-1506762000-1506790800@shalomfamilymission.org
SUMMARY:Home Builders Fest
DESCRIPTION:You will be Happy and Prosperous (Psalm 128:2) \n  \nA marriage preparation program for youth. \n  \n\nGod’s Design for Happy Married Life\nExpectations\nFinance – God’s Way\nin-law’s Psychology\nGod’s Wedding Gift\n\n 
URL:https://shalomfamilymission.org/event/home-builders-fest/
LOCATION:Jesus Miracle Working Church\, Kavundampadi\,\, Erode\, Tamil Nadu\, India
ATTACH;FMTTYPE=image/jpeg:https://shalomfamilymission.org/wp-content/uploads/2017/09/HCF.jpg
END:VEVENT
END:VCALENDAR