BEGIN:VCALENDAR
VERSION:2.0
PRODID:-//Shalom Family Enrichment Mission - ECPv6.15.20//NONSGML v1.0//EN
CALSCALE:GREGORIAN
METHOD:PUBLISH
X-WR-CALNAME:Shalom Family Enrichment Mission
X-ORIGINAL-URL:https://shalomfamilymission.org
X-WR-CALDESC:Events for Shalom Family Enrichment Mission
REFRESH-INTERVAL;VALUE=DURATION:PT1H
X-Robots-Tag:noindex
X-PUBLISHED-TTL:PT1H
BEGIN:VTIMEZONE
TZID:Asia/Kolkata
BEGIN:STANDARD
TZOFFSETFROM:+0530
TZOFFSETTO:+0530
TZNAME:IST
DTSTART:20180101T000000
END:STANDARD
END:VTIMEZONE
BEGIN:VEVENT
DTSTART;TZID=Asia/Kolkata:20190902T090000
DTEND;TZID=Asia/Kolkata:20190902T160000
DTSTAMP:20260424T014911
CREATED:20190902T052122Z
LAST-MODIFIED:20190902T052316Z
UID:9941-1567414800-1567440000@shalomfamilymission.org
SUMMARY:Home Builders Fest\, For Senior Girls
DESCRIPTION:Coordinator: Ruby Rajasekaran\, ph: 9841279545
URL:https://shalomfamilymission.org/event/home-builders-fest-for-senior-girls-2/
CATEGORIES:ministry
END:VEVENT
END:VCALENDAR