BEGIN:VCALENDAR
VERSION:2.0
PRODID:-//Shalom Family Enrichment Mission - ECPv6.15.20//NONSGML v1.0//EN
CALSCALE:GREGORIAN
METHOD:PUBLISH
X-WR-CALNAME:Shalom Family Enrichment Mission
X-ORIGINAL-URL:https://shalomfamilymission.org
X-WR-CALDESC:Events for Shalom Family Enrichment Mission
REFRESH-INTERVAL;VALUE=DURATION:PT1H
X-Robots-Tag:noindex
X-PUBLISHED-TTL:PT1H
BEGIN:VTIMEZONE
TZID:Asia/Kolkata
BEGIN:STANDARD
TZOFFSETFROM:+0530
TZOFFSETTO:+0530
TZNAME:IST
DTSTART:20180101T000000
END:STANDARD
END:VTIMEZONE
BEGIN:VEVENT
DTSTART;TZID=Asia/Kolkata:20190908T080000
DTEND;TZID=Asia/Kolkata:20190908T140000
DTSTAMP:20260424T041233
CREATED:20190902T091030Z
LAST-MODIFIED:20190902T091030Z
UID:10004-1567929600-1567951200@shalomfamilymission.org
SUMMARY:Young Couples Fest
DESCRIPTION:Young Couples Festival \nECI Church\, Red hills \nContact: Gnanam Aunty – 9884354602
URL:https://shalomfamilymission.org/event/young-couples-fest/
END:VEVENT
END:VCALENDAR