BEGIN:VCALENDAR
VERSION:2.0
PRODID:-//Shalom Family Enrichment Mission - ECPv6.15.20//NONSGML v1.0//EN
CALSCALE:GREGORIAN
METHOD:PUBLISH
X-WR-CALNAME:Shalom Family Enrichment Mission
X-ORIGINAL-URL:https://shalomfamilymission.org
X-WR-CALDESC:Events for Shalom Family Enrichment Mission
REFRESH-INTERVAL;VALUE=DURATION:PT1H
X-Robots-Tag:noindex
X-PUBLISHED-TTL:PT1H
BEGIN:VTIMEZONE
TZID:Asia/Kolkata
BEGIN:STANDARD
TZOFFSETFROM:+0530
TZOFFSETTO:+0530
TZNAME:IST
DTSTART:20180101T000000
END:STANDARD
END:VTIMEZONE
BEGIN:VEVENT
DTSTART;TZID=Asia/Kolkata:20191005T080000
DTEND;TZID=Asia/Kolkata:20191007T170000
DTSTAMP:20260424T003337
CREATED:20190912T051736Z
LAST-MODIFIED:20190912T051736Z
UID:10081-1570262400-1570467600@shalomfamilymission.org
SUMMARY:Shalom Family Enrichment Camp
DESCRIPTION:
URL:https://shalomfamilymission.org/event/shalom-family-enrichment-camp/
ATTACH;FMTTYPE=image/jpeg:https://shalomfamilymission.org/wp-content/uploads/2019/09/IMG-20190908-WA0043.jpg
END:VEVENT
END:VCALENDAR