BEGIN:VCALENDAR
VERSION:2.0
PRODID:-//Shalom Family Enrichment Mission - ECPv6.15.17//NONSGML v1.0//EN
CALSCALE:GREGORIAN
METHOD:PUBLISH
X-ORIGINAL-URL:https://shalomfamilymission.org
X-WR-CALDESC:Events for Shalom Family Enrichment Mission
REFRESH-INTERVAL;VALUE=DURATION:PT1H
X-Robots-Tag:noindex
X-PUBLISHED-TTL:PT1H
BEGIN:VTIMEZONE
TZID:Asia/Kolkata
BEGIN:STANDARD
TZOFFSETFROM:+0530
TZOFFSETTO:+0530
TZNAME:IST
DTSTART:20190101T000000
END:STANDARD
END:VTIMEZONE
BEGIN:VEVENT
DTSTART;TZID=Asia/Kolkata:20200414T083000
DTEND;TZID=Asia/Kolkata:20200414T170000
DTSTAMP:20260421T100738
CREATED:20200307T155308Z
LAST-MODIFIED:20200307T155622Z
UID:10111-1586853000-1586883600@shalomfamilymission.org
SUMMARY:Senior Youths Home-Builders Fest
DESCRIPTION:
URL:https://shalomfamilymission.org/event/senior-youths-home-builders-fest/
LOCATION:Advent Church\, Pallikaranai\, Chennai
ATTACH;FMTTYPE=image/jpeg:https://shalomfamilymission.org/wp-content/uploads/2020/03/Senior-Youth-Invite-Banner.jpg
END:VEVENT
END:VCALENDAR