BEGIN:VCALENDAR
VERSION:2.0
PRODID:-//Shalom Family Enrichment Mission - ECPv6.15.17//NONSGML v1.0//EN
CALSCALE:GREGORIAN
METHOD:PUBLISH
X-ORIGINAL-URL:https://shalomfamilymission.org
X-WR-CALDESC:Events for Shalom Family Enrichment Mission
REFRESH-INTERVAL;VALUE=DURATION:PT1H
X-Robots-Tag:noindex
X-PUBLISHED-TTL:PT1H
BEGIN:VTIMEZONE
TZID:Asia/Kolkata
BEGIN:STANDARD
TZOFFSETFROM:+0530
TZOFFSETTO:+0530
TZNAME:IST
DTSTART:20190101T000000
END:STANDARD
END:VTIMEZONE
BEGIN:VEVENT
DTSTART;TZID=Asia/Kolkata:20200514T080000
DTEND;TZID=Asia/Kolkata:20200517T170000
DTSTAMP:20260421T082046
CREATED:20200307T153536Z
LAST-MODIFIED:20200307T153536Z
UID:10107-1589443200-1589734800@shalomfamilymission.org
SUMMARY:Teen Summer Camp 2020 - Girls
DESCRIPTION:
URL:https://shalomfamilymission.org/event/teen-summer-camp-2020-girls/
LOCATION:YMCA Camp Center\, Yelagiri
CATEGORIES:Teens
ATTACH;FMTTYPE=image/jpeg:https://shalomfamilymission.org/wp-content/uploads/2020/03/Teen-Girls-Invitation-2020_Banner.jpg
END:VEVENT
END:VCALENDAR