BEGIN:VCALENDAR
VERSION:2.0
PRODID:-//Shalom Family Enrichment Mission - ECPv6.15.17//NONSGML v1.0//EN
CALSCALE:GREGORIAN
METHOD:PUBLISH
X-WR-CALNAME:Shalom Family Enrichment Mission
X-ORIGINAL-URL:https://shalomfamilymission.org
X-WR-CALDESC:Events for Shalom Family Enrichment Mission
REFRESH-INTERVAL;VALUE=DURATION:PT1H
X-Robots-Tag:noindex
X-PUBLISHED-TTL:PT1H
BEGIN:VTIMEZONE
TZID:Asia/Kolkata
BEGIN:STANDARD
TZOFFSETFROM:+0530
TZOFFSETTO:+0530
TZNAME:IST
DTSTART:20190101T000000
END:STANDARD
END:VTIMEZONE
BEGIN:VEVENT
DTSTART;TZID=Asia/Kolkata:20200718T163000
DTEND;TZID=Asia/Kolkata:20200718T180000
DTSTAMP:20260421T045551
CREATED:20200718T064632Z
LAST-MODIFIED:20200718T064632Z
UID:11104-1595089800-1595095200@shalomfamilymission.org
SUMMARY:Parenting Webinar
DESCRIPTION:
URL:https://shalomfamilymission.org/event/parenting-webinar/
LOCATION:Zoom\, ID: 880 4053 3095\, PASS: 555 888
END:VEVENT
END:VCALENDAR