BEGIN:VCALENDAR
VERSION:2.0
PRODID:-//Shalom Family Enrichment Mission - ECPv6.15.20//NONSGML v1.0//EN
CALSCALE:GREGORIAN
METHOD:PUBLISH
X-ORIGINAL-URL:https://shalomfamilymission.org
X-WR-CALDESC:Events for Shalom Family Enrichment Mission
REFRESH-INTERVAL;VALUE=DURATION:PT1H
X-Robots-Tag:noindex
X-PUBLISHED-TTL:PT1H
BEGIN:VTIMEZONE
TZID:UTC
BEGIN:STANDARD
TZOFFSETFROM:+0000
TZOFFSETTO:+0000
TZNAME:UTC
DTSTART:20160101T000000
END:STANDARD
END:VTIMEZONE
BEGIN:VTIMEZONE
TZID:Asia/Kolkata
BEGIN:STANDARD
TZOFFSETFROM:+0530
TZOFFSETTO:+0530
TZNAME:IST
DTSTART:20160101T000000
END:STANDARD
END:VTIMEZONE
BEGIN:VEVENT
DTSTART;TZID=UTC:20170820T090000
DTEND;TZID=UTC:20170820T170000
DTSTAMP:20260425T210804
CREATED:20170713T121058Z
LAST-MODIFIED:20170816T181744Z
UID:9267-1503219600-1503248400@shalomfamilymission.org
SUMMARY:Bible Sunday
DESCRIPTION:
URL:https://shalomfamilymission.org/event/bible-sunday-aug2017/
LOCATION:Icsa Paripurna Training Centre\, Manapakkam\, Chennai\, India
CATEGORIES:Bible Sunday
ATTACH;FMTTYPE=image/png:https://shalomfamilymission.org/wp-content/uploads/2017/07/Bible-Sunday-1.png
END:VEVENT
BEGIN:VEVENT
DTSTART;TZID=Asia/Kolkata:20170820T120000
DTEND;TZID=Asia/Kolkata:20170820T153000
DTSTAMP:20260425T210804
CREATED:20170816T180355Z
LAST-MODIFIED:20170816T181227Z
UID:9367-1503230400-1503243000@shalomfamilymission.org
SUMMARY:Teen Girls Fellowship
DESCRIPTION:
URL:https://shalomfamilymission.org/event/teen-girls-fellowship/
LOCATION:Shalom Family Enrichment Mission\, 112\, Mount Road\, Behind Hotel Zen Garden\, Guindy\, Chennai\, India
CATEGORIES:Teens
ATTACH;FMTTYPE=image/jpeg:https://shalomfamilymission.org/wp-content/uploads/2017/08/TeenGirlsFellowship.jpg
END:VEVENT
BEGIN:VEVENT
DTSTART;TZID=Asia/Kolkata:20170827T120000
DTEND;TZID=Asia/Kolkata:20170827T153000
DTSTAMP:20260425T210804
CREATED:20170816T180609Z
LAST-MODIFIED:20170816T180700Z
UID:9373-1503835200-1503847800@shalomfamilymission.org
SUMMARY:Teen Boys Fellowship
DESCRIPTION:
URL:https://shalomfamilymission.org/event/teen-boys-fellowship/
LOCATION:Shalom Family Enrichment Mission\, 112\, Mount Road\, Behind Hotel Zen Garden\, Guindy\, Chennai\, India
CATEGORIES:Teens
ATTACH;FMTTYPE=image/jpeg:https://shalomfamilymission.org/wp-content/uploads/2017/08/TeenBoysFellowship.jpg
END:VEVENT
BEGIN:VEVENT
DTSTART;TZID=Asia/Kolkata:20170827T170000
DTEND;TZID=Asia/Kolkata:20170827T200000
DTSTAMP:20260425T210804
CREATED:20170816T182938Z
LAST-MODIFIED:20170816T182938Z
UID:9379-1503853200-1503864000@shalomfamilymission.org
SUMMARY:Young Couples Fellowship
DESCRIPTION:
URL:https://shalomfamilymission.org/event/young-couples-fellowship/
LOCATION:Shalom Family Enrichment Mission\, 112\, Mount Road\, Behind Hotel Zen Garden\, Guindy\, Chennai\, India
CATEGORIES:Young Couples
ATTACH;FMTTYPE=image/jpeg:https://shalomfamilymission.org/wp-content/uploads/2017/08/YCF-Event.jpg
END:VEVENT
END:VCALENDAR