BEGIN:VCALENDAR
VERSION:2.0
PRODID:-//Shalom Family Enrichment Mission - ECPv6.15.20//NONSGML v1.0//EN
CALSCALE:GREGORIAN
METHOD:PUBLISH
X-ORIGINAL-URL:https://shalomfamilymission.org
X-WR-CALDESC:Events for Shalom Family Enrichment Mission
REFRESH-INTERVAL;VALUE=DURATION:PT1H
X-Robots-Tag:noindex
X-PUBLISHED-TTL:PT1H
BEGIN:VTIMEZONE
TZID:Asia/Kolkata
BEGIN:STANDARD
TZOFFSETFROM:+0530
TZOFFSETTO:+0530
TZNAME:IST
DTSTART:20170101T000000
END:STANDARD
END:VTIMEZONE
BEGIN:VEVENT
DTSTART;TZID=Asia/Kolkata:20181106T083000
DTEND;TZID=Asia/Kolkata:20181106T193000
DTSTAMP:20260424T174548
CREATED:20180918T023544Z
LAST-MODIFIED:20180918T023544Z
UID:9879-1541493000-1541532600@shalomfamilymission.org
SUMMARY:Young Couples Fest - 6 Nov 2018
DESCRIPTION:Organized and Conducted by: Shalom Family Enrichment Mission \nOn: November 6th\, 2018 (Diwali Holiday) Thursday \nTime: From 8:30 AM to 7:30 PM \nCoordinator: Mr. Reuban – Mobile:- 9677 118 757
URL:https://shalomfamilymission.org/event/young-couples-fest-6-nov-2018/
LOCATION:ICSA Paripoorana Center\, Manapakkam\, Chennai\, India
CATEGORIES:Retreat,Young Couples
ATTACH;FMTTYPE=image/jpeg:https://shalomfamilymission.org/wp-content/uploads/2018/09/Young-Couples-Invitation-2018-Feature.jpg
END:VEVENT
END:VCALENDAR