BEGIN:VCALENDAR
VERSION:2.0
PRODID:-//Shalom Family Enrichment Mission - ECPv6.15.17//NONSGML v1.0//EN
CALSCALE:GREGORIAN
METHOD:PUBLISH
X-WR-CALNAME:Shalom Family Enrichment Mission
X-ORIGINAL-URL:https://shalomfamilymission.org
X-WR-CALDESC:Events for Shalom Family Enrichment Mission
REFRESH-INTERVAL;VALUE=DURATION:PT1H
X-Robots-Tag:noindex
X-PUBLISHED-TTL:PT1H
BEGIN:VTIMEZONE
TZID:Asia/Kolkata
BEGIN:STANDARD
TZOFFSETFROM:+0530
TZOFFSETTO:+0530
TZNAME:IST
DTSTART:20190101T000000
END:STANDARD
END:VTIMEZONE
BEGIN:VEVENT
DTSTART;TZID=Asia/Kolkata:20200712T163000
DTEND;TZID=Asia/Kolkata:20200712T180000
DTSTAMP:20260421T031430
CREATED:20200712T064035Z
LAST-MODIFIED:20240126T114352Z
UID:11073-1594571400-1594576800@shalomfamilymission.org
SUMMARY:Webinar on Parenting in the Digital World
DESCRIPTION:By Jegadesh
URL:https://shalomfamilymission.org/event/webinar-on-parenting-in-the-digital-world/
LOCATION:Zoom\, ID: 880 4053 3095\, PASS: 555 888
END:VEVENT
BEGIN:VEVENT
DTSTART;TZID=Asia/Kolkata:20200718T163000
DTEND;TZID=Asia/Kolkata:20200718T180000
DTSTAMP:20260421T031430
CREATED:20200718T064632Z
LAST-MODIFIED:20200718T064632Z
UID:11104-1595089800-1595095200@shalomfamilymission.org
SUMMARY:Parenting Webinar
DESCRIPTION:
URL:https://shalomfamilymission.org/event/parenting-webinar/
LOCATION:Zoom\, ID: 880 4053 3095\, PASS: 555 888
END:VEVENT
BEGIN:VEVENT
DTSTART;TZID=Asia/Kolkata:20200726T143000
DTEND;TZID=Asia/Kolkata:20200726T160000
DTSTAMP:20260421T031430
CREATED:20200725T174723Z
LAST-MODIFIED:20200725T174723Z
UID:11151-1595773800-1595779200@shalomfamilymission.org
SUMMARY:Pre-Marriage Counselling for Senior Boys
DESCRIPTION:
URL:https://shalomfamilymission.org/event/pre-marriage-counselling-for-senior-boys/
CATEGORIES:Retreat
END:VEVENT
BEGIN:VEVENT
DTSTART;TZID=Asia/Kolkata:20200726T143000
DTEND;TZID=Asia/Kolkata:20200726T160000
DTSTAMP:20260421T031430
CREATED:20200725T175004Z
LAST-MODIFIED:20200725T175004Z
UID:11154-1595773800-1595779200@shalomfamilymission.org
SUMMARY:Pre-Marriage Counselling for Senior Youth Girls
DESCRIPTION:
URL:https://shalomfamilymission.org/event/pre-marriage-counselling-for-senior-youth-girls/
CATEGORIES:Retreat
END:VEVENT
BEGIN:VEVENT
DTSTART;TZID=Asia/Kolkata:20200726T163000
DTEND;TZID=Asia/Kolkata:20200726T180000
DTSTAMP:20260421T031430
CREATED:20200725T175411Z
LAST-MODIFIED:20200725T175411Z
UID:11158-1595781000-1595786400@shalomfamilymission.org
SUMMARY:Parenting Webinar
DESCRIPTION:
URL:https://shalomfamilymission.org/event/parenting-webinar-2/
LOCATION:Zoom\, ID: 880 4053 3095\, PASS: 555 888
END:VEVENT
END:VCALENDAR